BEGIN:VCALENDAR
PRODID:-//Hannon Hill Events//Cascade CMS//EN
VERSION:2.0
X-WR-CALNAME:Fall 2026 Withdrawal for Nonpayment
X-WR-TIMEZONE:America/Chicago
BEGIN:VTIMEZONE
TZID:America/Chicago
BEGIN:DAYLIGHT
TZOFFSETFROM:-0500
TZOFFSETTO:-0400
TZNAME:CDT
DTSTART:19700308T020000
RRULE:FREQ=YEARLY;BYMONTH=3;BYDAY=2SU
END:DAYLIGHT
BEGIN:STANDARD
TZOFFSETFROM:-0400
TZOFFSETTO:-0500
TZNAME:CST
DTSTART:19701101T020000
RRULE:FREQ=YEARLY;BYMONTH=11;BYDAY=1SU
END:STANDARD
END:VTIMEZONE
BEGIN:VEVENT
DTSTART:20261023T000000
DTEND:20261023T000000
DTSTAMP:20260424T020127
UID:bb92ee570a0000bc044aa3b976251299
CREATED:20260423T132101
DESCRIPTION:Stay enrolled by paying tuition on time. Learn about withdrawa
 l for nonpayment\, key deadlines\, and how to avoid being dropped from you
 r classes.
LAST-MODIFIED:20260423T144709
SEQUENCE:0
STATUS:CONFIRMED
SUMMARY:Fall 2026 Withdrawal for Nonpayment
TRANSP:OPAQUE
END:VEVENT
END:VCALENDAR
