BEGIN:VCALENDAR
PRODID:-//Hannon Hill Events//Cascade CMS//EN
VERSION:2.0
X-WR-CALNAME:Withdrawal Deadline for 2nd 4-Week Fall 2026 Classes
X-WR-TIMEZONE:America/Chicago
BEGIN:VTIMEZONE
TZID:America/Chicago
BEGIN:DAYLIGHT
TZOFFSETFROM:-0500
TZOFFSETTO:-0400
TZNAME:CDT
DTSTART:19700308T020000
RRULE:FREQ=YEARLY;BYMONTH=3;BYDAY=2SU
END:DAYLIGHT
BEGIN:STANDARD
TZOFFSETFROM:-0400
TZOFFSETTO:-0500
TZNAME:CST
DTSTART:19701101T020000
RRULE:FREQ=YEARLY;BYMONTH=11;BYDAY=1SU
END:STANDARD
END:VTIMEZONE
BEGIN:VEVENT
DTSTART:20261012T000000
DTEND:20261012T000000
DTSTAMP:20260424T020140
UID:bb9b20100a0000bc044aa3b9189f2d79
CREATED:20260423T132958
DESCRIPTION:Withdrawing after the drop period results in a &quot\;W&quot\;
  on your transcript. It doesn&#8217\;t affect GPA but may impact aid. You&
 #8217\;re still responsible for full tuition.
LAST-MODIFIED:20260423T144448
SEQUENCE:0
STATUS:CONFIRMED
SUMMARY:Withdrawal Deadline for 2nd 4-Week Fall 2026 Classes
TRANSP:OPAQUE
END:VEVENT
END:VCALENDAR
