BEGIN:VCALENDAR
PRODID:-//Hannon Hill Events//Cascade CMS//EN
VERSION:2.0
X-WR-CALNAME:Tuition Refund Deadline for 3rd 4-Week Fall 2026 Classes
X-WR-TIMEZONE:America/Chicago
BEGIN:VTIMEZONE
TZID:America/Chicago
BEGIN:DAYLIGHT
TZOFFSETFROM:-0500
TZOFFSETTO:-0400
TZNAME:CDT
DTSTART:19700308T020000
RRULE:FREQ=YEARLY;BYMONTH=3;BYDAY=2SU
END:DAYLIGHT
BEGIN:STANDARD
TZOFFSETFROM:-0400
TZOFFSETTO:-0500
TZNAME:CST
DTSTART:19701101T020000
RRULE:FREQ=YEARLY;BYMONTH=11;BYDAY=1SU
END:STANDARD
END:VTIMEZONE
BEGIN:VEVENT
DTSTART:20261016T000000
DTEND:20261016T000000
DTSTAMP:20260424T020152
UID:bbb6b4080a0000bc044aa3b913176d4e
CREATED:20260423T140006
DESCRIPTION:Drop your class by the Tuition Refund Deadline to get a full r
 efund. Remember\, not attending doesn&#8217\;t drop you&#8212\;you must fo
 llow the official drop process.
LAST-MODIFIED:20260423T144149
SEQUENCE:0
STATUS:CONFIRMED
SUMMARY:Tuition Refund Deadline for 3rd 4-Week Fall 2026 Classes
TRANSP:OPAQUE
END:VEVENT
END:VCALENDAR
