BEGIN:VCALENDAR
PRODID:-//Hannon Hill Events//Cascade CMS//EN
VERSION:2.0
X-WR-CALNAME:Tuition Refund Deadline for 8-Week Summer 2026 Classes
X-WR-TIMEZONE:America/Chicago
BEGIN:VTIMEZONE
TZID:America/Chicago
BEGIN:DAYLIGHT
TZOFFSETFROM:-0500
TZOFFSETTO:-0400
TZNAME:CDT
DTSTART:19700308T020000
RRULE:FREQ=YEARLY;BYMONTH=3;BYDAY=2SU
END:DAYLIGHT
BEGIN:STANDARD
TZOFFSETFROM:-0400
TZOFFSETTO:-0500
TZNAME:CST
DTSTART:19701101T020000
RRULE:FREQ=YEARLY;BYMONTH=11;BYDAY=1SU
END:STANDARD
END:VTIMEZONE
BEGIN:VEVENT
DTSTART:20260601T000000
DTEND:20260601T000000
DTSTAMP:20260424T020535
UID:bb7212fa0a0000bc044aa3b95a134141
CREATED:20260423T124508
DESCRIPTION:If you&#8217\;re planning to drop a class\, make sure to do it
  by the deadline to get a full refund. Remember\, not attending doesn&#821
 7\;t count&#8212\;you must officially drop.
LAST-MODIFIED:20260423T143237
SEQUENCE:0
STATUS:CONFIRMED
SUMMARY:Tuition Refund Deadline for 8-Week Summer 2026 Classes
TRANSP:OPAQUE
END:VEVENT
END:VCALENDAR
