BEGIN:VCALENDAR
PRODID:-//Hannon Hill Events//Cascade CMS//EN
VERSION:2.0
X-WR-CALNAME:Medical Assistant Program Open House
X-WR-TIMEZONE:America/Chicago
BEGIN:VTIMEZONE
TZID:America/Chicago
BEGIN:DAYLIGHT
TZOFFSETFROM:-0500
TZOFFSETTO:-0400
TZNAME:CDT
DTSTART:19700308T020000
RRULE:FREQ=YEARLY;BYMONTH=3;BYDAY=2SU
END:DAYLIGHT
BEGIN:STANDARD
TZOFFSETFROM:-0400
TZOFFSETTO:-0500
TZNAME:CST
DTSTART:19701101T020000
RRULE:FREQ=YEARLY;BYMONTH=11;BYDAY=1SU
END:STANDARD
END:VTIMEZONE
BEGIN:VEVENT
DTSTART:20260428T150000
DTEND:20260428T170000
DTSTAMP:20260425T020354
UID:c12c95430a0000bc044aa3b96da83ccc
CREATED:20260424T152657
DESCRIPTION:Explore the Medical Assisting program. Meet instructors\, tour
  the classroom and lab\, and get your questions answered at this info sess
 ion.
LAST-MODIFIED:20260424T152657
SEQUENCE:0
STATUS:CONFIRMED
SUMMARY:Medical Assistant Program Open House
TRANSP:OPAQUE
END:VEVENT
END:VCALENDAR
